BEGIN:VCALENDAR
VERSION:2.0
PRODID:-//イルチブレインヨガ神戸新長田スタジオ - ECPv6.15.20//NONSGML v1.0//EN
CALSCALE:GREGORIAN
METHOD:PUBLISH
X-WR-CALNAME:イルチブレインヨガ神戸新長田スタジオ
X-ORIGINAL-URL:https://ilchibrainyoga-kobe.com
X-WR-CALDESC:イルチブレインヨガ神戸新長田スタジオ のイベント
REFRESH-INTERVAL;VALUE=DURATION:PT1H
X-Robots-Tag:noindex
X-PUBLISHED-TTL:PT1H
BEGIN:VTIMEZONE
TZID:Asia/Tokyo
BEGIN:STANDARD
TZOFFSETFROM:+0900
TZOFFSETTO:+0900
TZNAME:JST
DTSTART:20250101T000000
END:STANDARD
END:VTIMEZONE
BEGIN:VEVENT
DTSTART;TZID=Asia/Tokyo:20260114T100000
DTEND;TZID=Asia/Tokyo:20260114T114000
DTSTAMP:20260426T050335
CREATED:20260107T013848Z
LAST-MODIFIED:20260107T013848Z
UID:73254-1768384800-1768390800@ilchibrainyoga-kobe.com
SUMMARY:呼吸・瞑想ヨガ
DESCRIPTION:呼吸チェック(ビフォー・アフター)・体ポカポカ体操・頭すっきり瞑想\n\n1月14日(木）\n時間：\n①10:00～10:40\n②11:00〜11:40\n(体操30分)\n会場名：神戸三宮レンタルスタジオS ork\n会場住所：中央区琴ノ緒町4丁目7-9関西ビル301号室 \n参加費：500円(要予約)\nトレーナー：有馬加代\n持ち物：動きやすい服装、飲み物\n問合せ電話:078-965-7227 \n\nLINEからのお申し込みはこちら⇒https://lin.ee/q3i63Eq \n\n\n  \n\n\n\n\n\n \n体験ご希望日時\n		(必須)　※ご注意：月曜日は定休日です\n		\n \n—以下から選択してください—10111213141516171819時 —以下から選択してください—001020304050分 ～ のクラス\n \nお名前\n		 (必須)\n		\n \n\n \nメールアドレス\n		 (必須)\n		\n \n\n \nお電話番号（携帯可）\n		 (必須)\n		\n \n\n \nこちらのスタジオを何でお知りになりましたか？\n		 (必須)\n		\n \nチラシ看板書籍雑誌紹介Yahoo検索Google検索口コミその他Webサイト\n \nご関心があること、習得したいこと（複数可）\n \n肩こり腰痛の改善自然治癒力アップ集中力アップダイエット体質改善ストレス解消丹田強化呼吸法瞑想法その他\n \n備考欄\n \n\n \n\n\n \n\n Δ \n\n\n\n株式会社DAHN WORLD JAPAN　ダンワールドジャパン
URL:https://ilchibrainyoga-kobe.com/event/kobe-17/
LOCATION:神戸三宮レンタルスタジオS ork\, 中央区琴ノ緒町4丁目7-9関西ビル301号室
ATTACH;FMTTYPE=image/jpeg:https://ilchibrainyoga-kobe.com/wp-content/uploads/2025/11/3人瞑想.jpg
END:VEVENT
END:VCALENDAR