BEGIN:VCALENDAR
VERSION:2.0
PRODID:-//イルチブレインヨガ神戸新長田スタジオ - ECPv6.15.20//NONSGML v1.0//EN
CALSCALE:GREGORIAN
METHOD:PUBLISH
X-ORIGINAL-URL:https://ilchibrainyoga-kobe.com
X-WR-CALDESC:イルチブレインヨガ神戸新長田スタジオ のイベント
REFRESH-INTERVAL;VALUE=DURATION:PT1H
X-Robots-Tag:noindex
X-PUBLISHED-TTL:PT1H
BEGIN:VTIMEZONE
TZID:Asia/Tokyo
BEGIN:STANDARD
TZOFFSETFROM:+0900
TZOFFSETTO:+0900
TZNAME:JST
DTSTART:20250101T000000
END:STANDARD
END:VTIMEZONE
BEGIN:VEVENT
DTSTART;TZID=Asia/Tokyo:20260426T100000
DTEND;TZID=Asia/Tokyo:20260426T112000
DTSTAMP:20260425T222754
CREATED:20260310T061039Z
LAST-MODIFIED:20260310T061039Z
UID:73344-1777197600-1777202400@ilchibrainyoga-kobe.com
SUMMARY:アリラン「ARIRANG」気功・瞑想体験会
DESCRIPTION:海や山、大自然を感じながら気功瞑想してみませんか？ストレスの多い日常から解放していきましょう。\n須磨海岸\n場所　JR須磨駅南口降りた砂浜 \n4月26日(日)10時〜11時20分\n参加費：1\,000円\nトレーナー：西澤栄希子\n持ち物：動きやすい服装、飲み物、タオル\n問合せ電話:078-965-7227 \n\nLINEからのお申し込みはこちら⇒https://lin.ee/q3i63Eq \n\n\n  \n\n\n\n\n\n \n体験ご希望日時\n		(必須)　※ご注意：月曜日は定休日です\n		\n \n—以下から選択してください—10111213141516171819時 —以下から選択してください—001020304050分 ～ のクラス\n \nお名前\n		 (必須)\n		\n \n\n \nメールアドレス\n		 (必須)\n		\n \n\n \nお電話番号（携帯可）\n		 (必須)\n		\n \n\n \nこちらのスタジオを何でお知りになりましたか？\n		 (必須)\n		\n \nチラシ看板書籍雑誌紹介Yahoo検索Google検索口コミその他Webサイト\n \nご関心があること、習得したいこと（複数可）\n \n肩こり腰痛の改善自然治癒力アップ集中力アップダイエット体質改善ストレス解消丹田強化呼吸法瞑想法その他\n \n備考欄\n \n\n \n\n\n \n\n Δ \n\n\n\n株式会社DAHN WORLD JAPAN　ダンワールドジャパン
URL:https://ilchibrainyoga-kobe.com/event/kobe-20/
LOCATION:JR須磨駅南口降りた砂浜
ATTACH;FMTTYPE=image/jpeg:https://ilchibrainyoga-kobe.com/wp-content/uploads/2026/03/気功２.jpg
END:VEVENT
END:VCALENDAR